BEGIN:VCALENDAR
VERSION:2.0
PRODID:-//OmniMagnetCalendar//EN
BEGIN:VEVENT
DTSTAMP:20190625T195740Z
STATUS:CONFIRMED
UID:smithclubnyc.com1273
DTSTART:20260529T230000Z
DTEND:20260530T010000Z
LOCATION:Wu Tsai Theater - David Geffen Hall , Lincoln Center for the Performing Arts, 10 Lincoln Center Plaza, New York, NY, 10023,
SUMMARY:CONNECT EVENT: Elim Chan ’09, Smith Medalist 2026 Conducts the New York Philharmonic
DESCRIPTION:Join the Smith College Club of New York City for an evening with the New York Philharmonic, conducted by Elim Chan ’09, Smith Medalist 2026.
BEGIN:VALARM
TRIGGER:-PT15M
ACTION:DISPLAY
END:VALARM
TRANSP:OPAQUE
END:VEVENT
END:VCALENDAR
