BEGIN:VCALENDAR
VERSION:2.0
PRODID:-//OmniMagnetCalendar//EN
BEGIN:VEVENT
DTSTAMP:20190625T195740Z
STATUS:CONFIRMED
UID:smithclubnyc.com1274
DTSTART:20260518T220000Z
DTEND:20260518T230000Z
LOCATION:Poster House, 119 West 23rd Street, New York, NY, 10011,
SUMMARY:Private Tour at Poster House – Act Black: Posters from Black American Stage & Screen
DESCRIPTION:Join fellow Smithies for a SCC NYC members-only private tour of the show “Act Black: Posters from Black American Stage & Screen”.
BEGIN:VALARM
TRIGGER:-PT15M
ACTION:DISPLAY
END:VALARM
TRANSP:OPAQUE
END:VEVENT
END:VCALENDAR
